BEGIN:VCALENDAR
VERSION:2.0
PRODID:-//Downtown Oregon City Association - ECPv6.15.11//NONSGML v1.0//EN
CALSCALE:GREGORIAN
METHOD:PUBLISH
X-WR-CALNAME:Downtown Oregon City Association
X-ORIGINAL-URL:https://downtownoregoncity.org
X-WR-CALDESC:Events for Downtown Oregon City Association
REFRESH-INTERVAL;VALUE=DURATION:PT1H
X-Robots-Tag:noindex
X-PUBLISHED-TTL:PT1H
BEGIN:VTIMEZONE
TZID:America/Los_Angeles
BEGIN:DAYLIGHT
TZOFFSETFROM:-0800
TZOFFSETTO:-0700
TZNAME:PDT
DTSTART:20250309T100000
END:DAYLIGHT
BEGIN:STANDARD
TZOFFSETFROM:-0700
TZOFFSETTO:-0800
TZNAME:PST
DTSTART:20251102T090000
END:STANDARD
BEGIN:DAYLIGHT
TZOFFSETFROM:-0800
TZOFFSETTO:-0700
TZNAME:PDT
DTSTART:20260308T100000
END:DAYLIGHT
BEGIN:STANDARD
TZOFFSETFROM:-0700
TZOFFSETTO:-0800
TZNAME:PST
DTSTART:20261101T090000
END:STANDARD
BEGIN:DAYLIGHT
TZOFFSETFROM:-0800
TZOFFSETTO:-0700
TZNAME:PDT
DTSTART:20270314T100000
END:DAYLIGHT
BEGIN:STANDARD
TZOFFSETFROM:-0700
TZOFFSETTO:-0800
TZNAME:PST
DTSTART:20271107T090000
END:STANDARD
END:VTIMEZONE
BEGIN:VEVENT
DTSTART;TZID=America/Los_Angeles:20260625T180000
DTEND;TZID=America/Los_Angeles:20260625T210000
DTSTAMP:20260422T020435
CREATED:20260121T162233Z
LAST-MODIFIED:20260121T162233Z
UID:10000359-1782410400-1782421200@downtownoregoncity.org
SUMMARY:Summer Wine Walk 2026
DESCRIPTION:This event is scheduled for Thursday\, June 25th\, 2026 \nMore details coming soon!
URL:https://downtownoregoncity.org/event/summer-wine-walk-2026/
LOCATION:Downtown Oregon City Association\, 814 Main Street\, Oregon City\, OR\, 97045\, United States
CATEGORIES:Festival,Food & Drink,Outdoors,Shopping
ORGANIZER;CN="Downtown Oregon City Association":MAILTO:admin@downtownoregoncity.org
END:VEVENT
BEGIN:VEVENT
DTSTART;TZID=America/Los_Angeles:20260725T110000
DTEND;TZID=America/Los_Angeles:20260725T180000
DTSTAMP:20260422T020435
CREATED:20260121T162538Z
LAST-MODIFIED:20260220T193013Z
UID:10000360-1784977200-1785002400@downtownoregoncity.org
SUMMARY:First City Celebration 2026
DESCRIPTION:This event is scheduled for Saturday\, July 25th\, 2026 \nMore details coming soon! \nVENDOR & SPONSOR information HERE!
URL:https://downtownoregoncity.org/event/first-city-celebration-2026/
LOCATION:Downtown Oregon City Association\, 814 Main Street\, Oregon City\, OR\, 97045\, United States
CATEGORIES:Art & Exhibits,Festival,Food & Drink,Free,History,Kid Friendly,Music,Outdoors,Shopping
ORGANIZER;CN="Downtown Oregon City Association":MAILTO:admin@downtownoregoncity.org
END:VEVENT
BEGIN:VEVENT
DTSTART;TZID=America/Los_Angeles:20260924T180000
DTEND;TZID=America/Los_Angeles:20260924T210000
DTSTAMP:20260422T020435
CREATED:20260121T162744Z
LAST-MODIFIED:20260121T163602Z
UID:10000361-1790272800-1790283600@downtownoregoncity.org
SUMMARY:Fall Wine Walk 2026
DESCRIPTION:This event is scheduled for Thursday\, September 24th\, 2026 \nMore details coming soon!
URL:https://downtownoregoncity.org/event/fall-wine-walk-2026/
LOCATION:Liberty Plaza\, 800 Main Street\, Oregon City\, OR\, 97045\, United States
CATEGORIES:Festival,Food & Drink,Outdoors,Shopping
ORGANIZER;CN="Downtown Oregon City Association":MAILTO:admin@downtownoregoncity.org
END:VEVENT
BEGIN:VEVENT
DTSTART;TZID=America/Los_Angeles:20261031T160000
DTEND;TZID=America/Los_Angeles:20261031T180000
DTSTAMP:20260422T020435
CREATED:20260121T162955Z
LAST-MODIFIED:20260121T162955Z
UID:10000362-1793462400-1793469600@downtownoregoncity.org
SUMMARY:Trick or Treat Main Street 2026
DESCRIPTION:This event is scheduled for Saturday\, October 31st\, 2026 \nMore details coming soon!
URL:https://downtownoregoncity.org/event/trick-or-treat-main-street-2026/
LOCATION:Downtown Oregon City Association\, 814 Main Street\, Oregon City\, OR\, 97045\, United States
CATEGORIES:Free,Kid Friendly,Outdoors
ORGANIZER;CN="Downtown Oregon City Association":MAILTO:admin@downtownoregoncity.org
END:VEVENT
BEGIN:VEVENT
DTSTART;VALUE=DATE:20261128
DTEND;VALUE=DATE:20261129
DTSTAMP:20260422T020435
CREATED:20260121T163302Z
LAST-MODIFIED:20260121T163302Z
UID:10000363-1795824000-1795910399@downtownoregoncity.org
SUMMARY:Small Business Saturday 2026
DESCRIPTION:This event is scheduled for Saturday\, November 28th\, 2026 \nMore details coming soon!
URL:https://downtownoregoncity.org/event/small-business-saturday-2026/
LOCATION:Downtown Oregon City Association\, 814 Main Street\, Oregon City\, OR\, 97045\, United States
CATEGORIES:Holiday,Kid Friendly,Shopping
ORGANIZER;CN="Downtown Oregon City Association":MAILTO:admin@downtownoregoncity.org
END:VEVENT
BEGIN:VEVENT
DTSTART;TZID=America/Los_Angeles:20261205T170000
DTEND;TZID=America/Los_Angeles:20261205T190000
DTSTAMP:20260422T020435
CREATED:20260121T163414Z
LAST-MODIFIED:20260121T163414Z
UID:10000364-1796490000-1796497200@downtownoregoncity.org
SUMMARY:Holiday Tree Lighting 2026
DESCRIPTION:This event is scheduled for Saturday\, December 5th\, 2026 \nMore details coming soon!
URL:https://downtownoregoncity.org/event/holiday-tree-lighting-2026/
LOCATION:Liberty Plaza\, 800 Main Street\, Oregon City\, OR\, 97045\, United States
CATEGORIES:Festival,Free,Holiday,Kid Friendly,Music,Outdoors,Shopping
ORGANIZER;CN="Downtown Oregon City Association":MAILTO:admin@downtownoregoncity.org
END:VEVENT
END:VCALENDAR